BEGIN:VCALENDAR
VERSION:2.0
PRODID:-//Rep. Norm Thurston - ECPv6.15.13//NONSGML v1.0//EN
CALSCALE:GREGORIAN
METHOD:PUBLISH
X-ORIGINAL-URL:https://www.normthurston.com
X-WR-CALDESC:Events for Rep. Norm Thurston
REFRESH-INTERVAL;VALUE=DURATION:PT1H
X-Robots-Tag:noindex
X-PUBLISHED-TTL:PT1H
BEGIN:VTIMEZONE
TZID:America/Denver
BEGIN:DAYLIGHT
TZOFFSETFROM:-0700
TZOFFSETTO:-0600
TZNAME:MDT
DTSTART:20140309T090000
END:DAYLIGHT
BEGIN:STANDARD
TZOFFSETFROM:-0600
TZOFFSETTO:-0700
TZNAME:MST
DTSTART:20141102T080000
END:STANDARD
BEGIN:DAYLIGHT
TZOFFSETFROM:-0700
TZOFFSETTO:-0600
TZNAME:MDT
DTSTART:20150308T090000
END:DAYLIGHT
BEGIN:STANDARD
TZOFFSETFROM:-0600
TZOFFSETTO:-0700
TZNAME:MST
DTSTART:20151101T080000
END:STANDARD
BEGIN:DAYLIGHT
TZOFFSETFROM:-0700
TZOFFSETTO:-0600
TZNAME:MDT
DTSTART:20160313T090000
END:DAYLIGHT
BEGIN:STANDARD
TZOFFSETFROM:-0600
TZOFFSETTO:-0700
TZNAME:MST
DTSTART:20161106T080000
END:STANDARD
BEGIN:DAYLIGHT
TZOFFSETFROM:-0700
TZOFFSETTO:-0600
TZNAME:MDT
DTSTART:20170312T090000
END:DAYLIGHT
BEGIN:STANDARD
TZOFFSETFROM:-0600
TZOFFSETTO:-0700
TZNAME:MST
DTSTART:20171105T080000
END:STANDARD
END:VTIMEZONE
BEGIN:VEVENT
DTSTART;TZID=America/Denver:20160305T071500
DTEND;TZID=America/Denver:20160305T093000
DTSTAMP:20260423T141118
CREATED:20160207T161830Z
LAST-MODIFIED:20160207T162204Z
UID:705-1457162100-1457170200@www.normthurston.com
SUMMARY:Eggs and Issues
DESCRIPTION:Come join me and our other Utah County legislators as we discuss issues and progress.  The free breakfast is a forum discussion between legislators\, business leaders\, and local residents about issues impacting our community. \nSchedule: \n\nRoundtable Q&A from 7:30 – 8:30 am.\nMix and Mingle from 8:30 – 9:00 am\nMeeting with individual legislators from 9:00 – 9:30 am\n\nLocation:  Clark Auditorium\, UVRMC Northwest Plaza — 1134 N 500 W\, Provo\, UT \nThis meeting is sponsored by Revere Health and hosted by the Utah Valley Chamber of Commerce.
URL:https://www.normthurston.com/event/eggs-and-issues-2/
LOCATION:Clark Auditorium\, Northwest Plaza\, 1134 N 500 W\, Provo\, UT\, 84601\, United States
CATEGORIES:Discussion
ATTACH;FMTTYPE=image/jpeg:https://www.normthurston.com/wp-content/uploads/2016/02/IMG_20160130_073828651_HDR.jpg
END:VEVENT
BEGIN:VEVENT
DTSTART;TZID=America/Denver:20160227T073000
DTEND;TZID=America/Denver:20160227T093000
DTSTAMP:20260423T141118
CREATED:20160207T160650Z
LAST-MODIFIED:20160207T160650Z
UID:702-1456558200-1456565400@www.normthurston.com
SUMMARY:Bills and Bagels in South County
DESCRIPTION:Come join me and our other South County legislators as we discuss issues and progress.  The free breakfast is a forum discussion between legislators\, business leaders\, and local residents about issues impacting our community. \nSchedule: \n\nRoundtable discussion happens from 7:30 – 9:00 am.\nMeetings with individual legislators from 9:00 – 9:30 am\n\nLocation:  Nebo School District Office– 350 South Main\, Spanish Fork\, UT \nThis meeting is sponsored by Revere Health and hosted by the Spanish Fork\, Springville\, and Payson Chambers of Commerce.
URL:https://www.normthurston.com/event/bills-and-bagels-in-south-county/
LOCATION:Nebo School District Office\, 350 South Main\, Spanish Fork\, UT\, United States
CATEGORIES:Discussion
ATTACH;FMTTYPE=image/jpeg:https://www.normthurston.com/wp-content/uploads/2016/02/56b6810c00d65.image_.jpg
END:VEVENT
BEGIN:VEVENT
DTSTART;TZID=America/Denver:20150327T190000
DTEND;TZID=America/Denver:20150327T210000
DTSTAMP:20260423T141118
CREATED:20150316T032745Z
LAST-MODIFIED:20150316T032745Z
UID:641-1427482800-1427490000@www.normthurston.com
SUMMARY:Post Session Wrap Up
DESCRIPTION:Please join me for an informal review of my experiences at the 2015 General Session.  Feel free to come and go as you are able\, but here is a rough agenda for the evening. \n7-8 p.m.  Overview of key issues \n8-9 p.m. A view from the inside
URL:https://www.normthurston.com/event/post-session-wrap-up/
LOCATION:Provo City Library\, 550 N University Avenue\, Provo\, UT\, 84606\, United States
CATEGORIES:Discussion
ATTACH;FMTTYPE=image/jpeg:https://www.normthurston.com/wp-content/uploads/2015/02/IMG_8222.jpg
END:VEVENT
END:VCALENDAR