BEGIN:VCALENDAR
VERSION:2.0
PRODID:-//Rep. Norm Thurston - ECPv6.15.13//NONSGML v1.0//EN
CALSCALE:GREGORIAN
METHOD:PUBLISH
X-WR-CALNAME:Rep. Norm Thurston
X-ORIGINAL-URL:https://www.normthurston.com
X-WR-CALDESC:Events for Rep. Norm Thurston
REFRESH-INTERVAL;VALUE=DURATION:PT1H
X-Robots-Tag:noindex
X-PUBLISHED-TTL:PT1H
BEGIN:VTIMEZONE
TZID:America/Denver
BEGIN:DAYLIGHT
TZOFFSETFROM:-0700
TZOFFSETTO:-0600
TZNAME:MDT
DTSTART:20130310T090000
END:DAYLIGHT
BEGIN:STANDARD
TZOFFSETFROM:-0600
TZOFFSETTO:-0700
TZNAME:MST
DTSTART:20131103T080000
END:STANDARD
BEGIN:DAYLIGHT
TZOFFSETFROM:-0700
TZOFFSETTO:-0600
TZNAME:MDT
DTSTART:20140309T090000
END:DAYLIGHT
BEGIN:STANDARD
TZOFFSETFROM:-0600
TZOFFSETTO:-0700
TZNAME:MST
DTSTART:20141102T080000
END:STANDARD
BEGIN:DAYLIGHT
TZOFFSETFROM:-0700
TZOFFSETTO:-0600
TZNAME:MDT
DTSTART:20150308T090000
END:DAYLIGHT
BEGIN:STANDARD
TZOFFSETFROM:-0600
TZOFFSETTO:-0700
TZNAME:MST
DTSTART:20151101T080000
END:STANDARD
BEGIN:DAYLIGHT
TZOFFSETFROM:-0700
TZOFFSETTO:-0600
TZNAME:MDT
DTSTART:20160313T090000
END:DAYLIGHT
BEGIN:STANDARD
TZOFFSETFROM:-0600
TZOFFSETTO:-0700
TZNAME:MST
DTSTART:20161106T080000
END:STANDARD
BEGIN:DAYLIGHT
TZOFFSETFROM:-0700
TZOFFSETTO:-0600
TZNAME:MDT
DTSTART:20170312T090000
END:DAYLIGHT
BEGIN:STANDARD
TZOFFSETFROM:-0600
TZOFFSETTO:-0700
TZNAME:MST
DTSTART:20171105T080000
END:STANDARD
BEGIN:DAYLIGHT
TZOFFSETFROM:-0700
TZOFFSETTO:-0600
TZNAME:MDT
DTSTART:20180311T090000
END:DAYLIGHT
BEGIN:STANDARD
TZOFFSETFROM:-0600
TZOFFSETTO:-0700
TZNAME:MST
DTSTART:20181104T080000
END:STANDARD
BEGIN:DAYLIGHT
TZOFFSETFROM:-0700
TZOFFSETTO:-0600
TZNAME:MDT
DTSTART:20190310T090000
END:DAYLIGHT
BEGIN:STANDARD
TZOFFSETFROM:-0600
TZOFFSETTO:-0700
TZNAME:MST
DTSTART:20191103T080000
END:STANDARD
BEGIN:DAYLIGHT
TZOFFSETFROM:-0700
TZOFFSETTO:-0600
TZNAME:MDT
DTSTART:20200308T090000
END:DAYLIGHT
BEGIN:STANDARD
TZOFFSETFROM:-0600
TZOFFSETTO:-0700
TZNAME:MST
DTSTART:20201101T080000
END:STANDARD
BEGIN:DAYLIGHT
TZOFFSETFROM:-0700
TZOFFSETTO:-0600
TZNAME:MDT
DTSTART:20210314T090000
END:DAYLIGHT
BEGIN:STANDARD
TZOFFSETFROM:-0600
TZOFFSETTO:-0700
TZNAME:MST
DTSTART:20211107T080000
END:STANDARD
BEGIN:DAYLIGHT
TZOFFSETFROM:-0700
TZOFFSETTO:-0600
TZNAME:MDT
DTSTART:20220313T090000
END:DAYLIGHT
BEGIN:STANDARD
TZOFFSETFROM:-0600
TZOFFSETTO:-0700
TZNAME:MST
DTSTART:20221106T080000
END:STANDARD
BEGIN:DAYLIGHT
TZOFFSETFROM:-0700
TZOFFSETTO:-0600
TZNAME:MDT
DTSTART:20230312T090000
END:DAYLIGHT
BEGIN:STANDARD
TZOFFSETFROM:-0600
TZOFFSETTO:-0700
TZNAME:MST
DTSTART:20231105T080000
END:STANDARD
END:VTIMEZONE
BEGIN:VEVENT
DTSTART;TZID=America/Denver:20221103T190000
DTEND;TZID=America/Denver:20221103T203000
DTSTAMP:20260423T130002
CREATED:20220726T214810Z
LAST-MODIFIED:20220807T134455Z
UID:1777-1667502000-1667507400@www.normthurston.com
SUMMARY:Virtual Meet and Greet
DESCRIPTION:Rep. Norm Thurston will be hosting an online event to discuss issues relating to the next legislative session. Please register to receive calendar invitations to online events. \nKeep an eye on his Facebook page for additional information.
URL:https://www.normthurston.com/event/virtual-meet-and-greet-3/
CATEGORIES:Meet the Candidate,Virtual Event
ATTACH;FMTTYPE=image/png:https://www.normthurston.com/wp-content/uploads/2022/03/Untitled-3-2.png
END:VEVENT
BEGIN:VEVENT
DTSTART;TZID=America/Denver:20220924T113000
DTEND;TZID=America/Denver:20220924T140000
DTSTAMP:20260423T130002
CREATED:20220726T214441Z
LAST-MODIFIED:20220923T132355Z
UID:1763-1664019000-1664028000@www.normthurston.com
SUMMARY:Community Leaders Picnic\, Southeast Provo
DESCRIPTION:Join Norm and other community leaders and candidates for a picnic lunch!\nBicentennial Park\, 1600 E 1440 S\, Provo\nJ. Dawgs will be provided to the first 50 attendees\, along with chips and drinks. This event is FREE but registration is required (so we can plan appropriately). Onsite registration may be possible\, subject to availability. \nConfirmed:\n\nRep. Norm Thurston\nAaron Davidson\, Candidate for County Clerk\nShannon Ellsworth\, Provo City Council\nKatrice Mackay\, Provo City Council\nJeff Gray\, Candidate for County Attorney\nJennifer Partridge\, Candidate for Provo School Board\nAngie Carter\, Candidate for Provo School Board\n\nInvited:\n\nBrandon Gordon\, Candidate for County Commissioner\nSen. Mike McKell\nSen. Curt Bramble\nDavid Shipley\, Provo City Council\nRachel Whipple\, Provo City Council\nUtah County Sheriff Mike Smith
URL:https://www.normthurston.com/event/community-leaders-picnic-southeast-provo/
CATEGORIES:Meet the Candidate
ATTACH;FMTTYPE=image/jpeg:https://www.normthurston.com/wp-content/uploads/2022/07/IMG_7007-600x450-1-e1659124155154.jpg
END:VEVENT
BEGIN:VEVENT
DTSTART;TZID=America/Denver:20220917T090000
DTEND;TZID=America/Denver:20220917T103000
DTSTAMP:20260423T130002
CREATED:20220726T214404Z
LAST-MODIFIED:20220807T134144Z
UID:1761-1663405200-1663410600@www.normthurston.com
SUMMARY:Virtual Meet and Greet
DESCRIPTION:Rep. Norm Thurston will be hosting an online event to discuss issues relating to the next legislative session. Please register to receive calendar invitations to online events. \nKeep an eye on his Facebook page for additional information. \n 
URL:https://www.normthurston.com/event/virtual-meet-and-greet/
CATEGORIES:Meet the Candidate,Virtual Event
ATTACH;FMTTYPE=image/jpeg:https://www.normthurston.com/wp-content/uploads/2022/07/IMG_20191112_160654328-scaled.jpg
END:VEVENT
BEGIN:VEVENT
DTSTART;TZID=America/Denver:20220910T113000
DTEND;TZID=America/Denver:20220910T140000
DTSTAMP:20260423T130002
CREATED:20220726T214315Z
LAST-MODIFIED:20220830T151843Z
UID:1759-1662809400-1662818400@www.normthurston.com
SUMMARY:Meet the Candidate Lunch\, Springville
DESCRIPTION:Meet the Candidate Lunch\nCome meet Norm and other candidates to discuss issues that are important to you at a picnic lunch.\nLocation: Home of Don and Rachel Olsen\, 82 N 200 W\, Springville J. Dawgs will be provided to the first 50 attendees\, along with chips and drinks. This event is FREE but registration is required (so we can plan appropriately). Onsite registration may be possible\, subject to availability. \nConfirmed:\n\nRep. Norm Thurston\nCongressman John Curtis\nCongressman Burgess Owens\nAaron Davidson\, Candidate for Utah County Clerk\nJohn Taylor\, Nebo School Board\nRobert Edgel\, Candidate for Nebo School Board\n\nInvited:\n\nAmelia Powers Gardner\nBrandon Gordon\nSen. Mike McKell\nSpringville City Council
URL:https://www.normthurston.com/event/meet-the-candidates-lunch-springville/
CATEGORIES:Meet the Candidate
ATTACH;FMTTYPE=image/jpeg:https://www.normthurston.com/wp-content/uploads/2022/07/photo-2-rotated-e1659124065710.jpg
END:VEVENT
BEGIN:VEVENT
DTSTART;TZID=America/Denver:20220827T113000
DTEND;TZID=America/Denver:20220827T140000
DTSTAMP:20260423T130002
CREATED:20220726T214032Z
LAST-MODIFIED:20220823T133138Z
UID:1754-1661599800-1661608800@www.normthurston.com
SUMMARY:Community Leaders Picnic\, West Provo
DESCRIPTION:Join Norm and other community leaders and candidates for a picnic lunch!\nFranklin Park\, 807 W 600 S\, Provo\nJ. Dawgs will be provided to the first 50 attendees\, along with chips and drinks. This event is FREE but registration is required (so we can plan appropriately). Onsite registration may be possible\, subject to availability. \nConfirmed:\n\nRep. Norm Thurston\nAaron Davidson\, Candidate for County Clerk\nJeff Gray\, Candidate for County Attorney\nShannon Ellsworth\, Provo City Council\nProvo Mayor Michelle Kaufusi\nCongressman Burgess Owens\nCounty Commissioner Amelia Powers Gardner\nBrandon Gordon\, Candidate for County Commissioner\n\nInvited:\n\nSen. Mike McKell\nSen. Curt Bramble\nDavid Shipley\, Provo City Council\nUtah County Sheriff Mike Smith
URL:https://www.normthurston.com/event/community-leaders-picnic-west-provo/
CATEGORIES:Meet the Candidate
ATTACH;FMTTYPE=image/jpeg:https://www.normthurston.com/wp-content/uploads/2022/07/348s-e1659124116568.jpg
END:VEVENT
BEGIN:VEVENT
DTSTART;TZID=America/Denver:20220819T190000
DTEND;TZID=America/Denver:20220819T210000
DTSTAMP:20260423T130002
CREATED:20220807T135417Z
LAST-MODIFIED:20220811T132144Z
UID:1861-1660935600-1660942800@www.normthurston.com
SUMMARY:UCRW Meet\, Greet\, and Enjoy a Treat
DESCRIPTION:Utah County Republican Women invites you to attend a candidate Meet & Greet event being held at 420 South 1000 East\, Orem on Friday\, August 19th from 7-9pm.\n\n\n\n\nPlease come and enjoy this wonderful end of summer get-together and kick off to UCRW’s new year! Meet and greet our Utah County Republican candidates for the November 8th election! Invite your friends and family to attend with you.\nLooking forward to seeing you there!
URL:https://www.normthurston.com/event/ucrw-meet-greet-and-enjoy-a-treat/
CATEGORIES:Meet the Candidate
ATTACH;FMTTYPE=image/jpeg:https://www.normthurston.com/wp-content/uploads/2018/02/IMG_20180209_132648927.jpg
ORGANIZER;CN="Utah County Republican Women":MAILTO:merrillsuzanne@gmail.com
END:VEVENT
BEGIN:VEVENT
DTSTART;TZID=America/Denver:20220811T190000
DTEND;TZID=America/Denver:20220811T203000
DTSTAMP:20260423T130002
CREATED:20220726T213130Z
LAST-MODIFIED:20220807T134522Z
UID:1750-1660244400-1660249800@www.normthurston.com
SUMMARY:Meet Your Representative
DESCRIPTION:Rep. Norm Thurston will be hosting an online event to discuss issues relating to the next legislative session. Please register to receive calendar invitations to online events. \nKeep an eye on his Facebook page for additional information.
URL:https://www.normthurston.com/event/get-to-know-norm-candidate-introduction/
CATEGORIES:Meet the Candidate,Virtual Event
ATTACH;FMTTYPE=image/jpeg:https://www.normthurston.com/wp-content/uploads/2020/02/IMG_0243.jpg
END:VEVENT
BEGIN:VEVENT
DTSTART;TZID=America/Denver:20141030T190000
DTEND;TZID=America/Denver:20141030T210000
DTSTAMP:20260423T130002
CREATED:20141025T122207Z
LAST-MODIFIED:20141025T122208Z
UID:476-1414695600-1414702800@www.normthurston.com
SUMMARY:Meet the Candidate
DESCRIPTION:Join us for great food and conversation! \nOctober 30 from 7 to 9 p.m.\, Provo City Library
URL:https://www.normthurston.com/event/meet-the-candidate/
LOCATION:Provo City Library\, 550 N University Avenue\, Provo\, UT\, 84606\, United States
CATEGORIES:Meet the Candidate
ATTACH;FMTTYPE=image/jpeg:https://www.normthurston.com/wp-content/uploads/2014/03/thurston.jpg
END:VEVENT
BEGIN:VEVENT
DTSTART;TZID=America/Denver:20140411T190000
DTEND;TZID=America/Denver:20140411T210000
DTSTAMP:20260423T130002
CREATED:20140321T221400Z
LAST-MODIFIED:20140321T221710Z
UID:426-1397242800-1397250000@www.normthurston.com
SUMMARY:Meet the Candidate Night - LD 64
DESCRIPTION:Mark your calendars now for a Meet the Candidates night on April 11.  More details coming soon.
URL:https://www.normthurston.com/event/meet-the-candidate-night/
LOCATION:Nu Skin Auditorium\, 75 W Center St.\, Provo\, UT\, 84601\, United States
CATEGORIES:County Delegates,Meet the Candidate
ATTACH;FMTTYPE=image/jpeg:https://www.normthurston.com/wp-content/uploads/2014/03/meetcandidates.jpg
END:VEVENT
BEGIN:VEVENT
DTSTART;TZID=America/Denver:20140410T190000
DTEND;TZID=America/Denver:20140410T200000
DTSTAMP:20260423T130002
CREATED:20140405T211801Z
LAST-MODIFIED:20140405T214051Z
UID:443-1397156400-1397160000@www.normthurston.com
SUMMARY:Meet the LD64 Candidates
DESCRIPTION:Lyle & Vona Hunsaker will be hosting a candidate Q&A at their home.  Come see us discuss critical issues. \nThey have requested an RSVP from delegates who will be attending – lylehunsaker@hotmail.com
URL:https://www.normthurston.com/event/meet-the-ld64-candidates/
LOCATION:Hunsaker’s Home\, 444 S 200 E\, Provo\, UT\, 84606\, United States
CATEGORIES:County Delegates,Meet the Candidate
ATTACH;FMTTYPE=image/jpeg:https://www.normthurston.com/wp-content/uploads/2013/10/houses3.jpg
END:VEVENT
END:VCALENDAR