BEGIN:VCALENDAR
VERSION:2.0
PRODID:-//Rep. Norm Thurston - ECPv6.15.13//NONSGML v1.0//EN
CALSCALE:GREGORIAN
METHOD:PUBLISH
X-ORIGINAL-URL:https://www.normthurston.com
X-WR-CALDESC:Events for Rep. Norm Thurston
REFRESH-INTERVAL;VALUE=DURATION:PT1H
X-Robots-Tag:noindex
X-PUBLISHED-TTL:PT1H
BEGIN:VTIMEZONE
TZID:America/Denver
BEGIN:DAYLIGHT
TZOFFSETFROM:-0700
TZOFFSETTO:-0600
TZNAME:MDT
DTSTART:20250309T090000
END:DAYLIGHT
BEGIN:STANDARD
TZOFFSETFROM:-0600
TZOFFSETTO:-0700
TZNAME:MST
DTSTART:20251102T080000
END:STANDARD
BEGIN:DAYLIGHT
TZOFFSETFROM:-0700
TZOFFSETTO:-0600
TZNAME:MDT
DTSTART:20260308T090000
END:DAYLIGHT
BEGIN:STANDARD
TZOFFSETFROM:-0600
TZOFFSETTO:-0700
TZNAME:MST
DTSTART:20261101T080000
END:STANDARD
BEGIN:DAYLIGHT
TZOFFSETFROM:-0700
TZOFFSETTO:-0600
TZNAME:MDT
DTSTART:20270314T090000
END:DAYLIGHT
BEGIN:STANDARD
TZOFFSETFROM:-0600
TZOFFSETTO:-0700
TZNAME:MST
DTSTART:20271107T080000
END:STANDARD
END:VTIMEZONE
BEGIN:VEVENT
DTSTART;TZID=America/Denver:20260317T180000
DTEND;TZID=America/Denver:20260317T203000
DTSTAMP:20260423T124904
CREATED:20260311T164556Z
LAST-MODIFIED:20260311T164631Z
UID:2451-1773770400-1773779400@www.normthurston.com
SUMMARY:2026 Caucus Night
DESCRIPTION:Make sure you attend your local caucus night. Please support and vote for leaders and delegates that are thoughtful and will represent you. Find out where your caucus is meeting by entering your address here.
URL:https://www.normthurston.com/event/2026-caucus-night/
END:VEVENT
BEGIN:VEVENT
DTSTART;TZID=America/Denver:20260321T133000
DTEND;TZID=America/Denver:20260321T163000
DTSTAMP:20260423T124904
CREATED:20260311T164852Z
LAST-MODIFIED:20260311T164900Z
UID:2454-1774099800-1774110600@www.normthurston.com
SUMMARY:UCRP Meet the Candidates (for Delegates)
DESCRIPTION:Skyridge High School\, 3000 N Center St\, Lehi UT
URL:https://www.normthurston.com/event/ucrp-meet-the-candidates-for-delegates/
CATEGORIES:County Delegates
END:VEVENT
BEGIN:VEVENT
DTSTART;TZID=America/Denver:20260328T150000
DTEND;TZID=America/Denver:20260328T170000
DTSTAMP:20260423T124904
CREATED:20260311T182025Z
LAST-MODIFIED:20260311T182025Z
UID:2456-1774710000-1774717200@www.normthurston.com
SUMMARY:UCRP Meet the Candidate Event
DESCRIPTION:Location is TBD
URL:https://www.normthurston.com/event/ucrp-meet-the-candidate-event/
END:VEVENT
BEGIN:VEVENT
DTSTART;TZID=America/Denver:20260401T190000
DTEND;TZID=America/Denver:20260401T210000
DTSTAMP:20260423T124904
CREATED:20260311T182102Z
LAST-MODIFIED:20260311T182102Z
UID:2458-1775070000-1775077200@www.normthurston.com
SUMMARY:UCRP Meet the Candidate Event
DESCRIPTION:Location is TBD
URL:https://www.normthurston.com/event/ucrp-meet-the-candidate-event-2/
END:VEVENT
BEGIN:VEVENT
DTSTART;TZID=America/Denver:20260414T190000
DTEND;TZID=America/Denver:20260414T210000
DTSTAMP:20260423T124904
CREATED:20260311T182149Z
LAST-MODIFIED:20260311T182149Z
UID:2460-1776193200-1776200400@www.normthurston.com
SUMMARY:UCRP Meet the Candidate Event
DESCRIPTION:Location is TBD
URL:https://www.normthurston.com/event/ucrp-meet-the-candidate-event-3/
END:VEVENT
END:VCALENDAR