BEGIN:VCALENDAR
VERSION:2.0
PRODID:-//Rep. Norm Thurston - ECPv6.15.13//NONSGML v1.0//EN
CALSCALE:GREGORIAN
METHOD:PUBLISH
X-WR-CALNAME:Rep. Norm Thurston
X-ORIGINAL-URL:https://www.normthurston.com
X-WR-CALDESC:Events for Rep. Norm Thurston
REFRESH-INTERVAL;VALUE=DURATION:PT1H
X-Robots-Tag:noindex
X-PUBLISHED-TTL:PT1H
BEGIN:VTIMEZONE
TZID:America/Denver
BEGIN:DAYLIGHT
TZOFFSETFROM:-0700
TZOFFSETTO:-0600
TZNAME:MDT
DTSTART:20130310T090000
END:DAYLIGHT
BEGIN:STANDARD
TZOFFSETFROM:-0600
TZOFFSETTO:-0700
TZNAME:MST
DTSTART:20131103T080000
END:STANDARD
BEGIN:DAYLIGHT
TZOFFSETFROM:-0700
TZOFFSETTO:-0600
TZNAME:MDT
DTSTART:20140309T090000
END:DAYLIGHT
BEGIN:STANDARD
TZOFFSETFROM:-0600
TZOFFSETTO:-0700
TZNAME:MST
DTSTART:20141102T080000
END:STANDARD
BEGIN:DAYLIGHT
TZOFFSETFROM:-0700
TZOFFSETTO:-0600
TZNAME:MDT
DTSTART:20150308T090000
END:DAYLIGHT
BEGIN:STANDARD
TZOFFSETFROM:-0600
TZOFFSETTO:-0700
TZNAME:MST
DTSTART:20151101T080000
END:STANDARD
BEGIN:DAYLIGHT
TZOFFSETFROM:-0700
TZOFFSETTO:-0600
TZNAME:MDT
DTSTART:20160313T090000
END:DAYLIGHT
BEGIN:STANDARD
TZOFFSETFROM:-0600
TZOFFSETTO:-0700
TZNAME:MST
DTSTART:20161106T080000
END:STANDARD
END:VTIMEZONE
BEGIN:VEVENT
DTSTART;TZID=America/Denver:20150207T073000
DTEND;TZID=America/Denver:20150207T093000
DTSTAMP:20260423T153122
CREATED:20150201T223820Z
LAST-MODIFIED:20150202T025913Z
UID:591-1423294200-1423301400@www.normthurston.com
SUMMARY:Bills and Bagels
DESCRIPTION:The Spanish Fork\, Springville\, and Payson Chambers of Commerce will be hosting a breakfast meeting—Bills and Bagels in South County\, on Saturday\, February 7\, 2015. \nThe breakfast is a forum discussion between legislators\, business leaders\, and local residents about issues impacting our community.  The discussion will focus on the State Budget and Your Taxes.
URL:https://www.normthurston.com/event/bills-and-bagels/
LOCATION:UT
ATTACH;FMTTYPE=image/png:https://www.normthurston.com/wp-content/uploads/2015/02/SpringvilleChamberLogo_1374254585.png
END:VEVENT
BEGIN:VEVENT
DTSTART;TZID=America/Denver:20150129T080000
DTEND;TZID=America/Denver:20150129T170000
DTSTAMP:20260423T153122
CREATED:20150129T190607Z
LAST-MODIFIED:20150129T190607Z
UID:585-1422518400-1422550800@www.normthurston.com
SUMMARY:Eggs & Issues (Town Hall)
DESCRIPTION:Join us for “Eggs and Issues”. Meet with Legislators for breakfast to discuss important issues affecting business in Utah County. \nThis is a free event\, but you must register! Please click the link above- If you are not a Chamber member\, click the “Not a Member” button to complete registration. \n\n\n\nDate:\n\nJanuary 31\, 2015\n\n\nTime:\n\n07:15 AM – 09:00 AM MST\n\n\nLocation:\n\nUtah Valley Regional Medical Center\, Northwest Plaza\, Clark Auditorium on the corner of 500 W. and Bulldog Blvd. in Provo\n\n\nDate/Time Details:\n\n7:15 AM: Registration Check-In\n7:30 AM: Breakfast & Program begins \nSaturday\, January 31 2015\n\n\nFees/Admission:\n\nFREE\, but you must REGISTER\nThank You!\n\n\n\nClick Here for More Information\nAdd to Calendar\nSorry\, I’m not able to attend\nRegister Online\n 
URL:https://www.normthurston.com/event/eggs-issues-town-hall/
LOCATION:UT
END:VEVENT
BEGIN:VEVENT
DTSTART;TZID=America/Denver:20141030T190000
DTEND;TZID=America/Denver:20141030T210000
DTSTAMP:20260423T153122
CREATED:20141025T122207Z
LAST-MODIFIED:20141025T122208Z
UID:476-1414695600-1414702800@www.normthurston.com
SUMMARY:Meet the Candidate
DESCRIPTION:Join us for great food and conversation! \nOctober 30 from 7 to 9 p.m.\, Provo City Library
URL:https://www.normthurston.com/event/meet-the-candidate/
LOCATION:Provo City Library\, 550 N University Avenue\, Provo\, UT\, 84606\, United States
CATEGORIES:Meet the Candidate
ATTACH;FMTTYPE=image/jpeg:https://www.normthurston.com/wp-content/uploads/2014/03/thurston.jpg
END:VEVENT
BEGIN:VEVENT
DTSTART;TZID=America/Denver:20140412T060000
DTEND;TZID=America/Denver:20140412T150000
DTSTAMP:20260423T153122
CREATED:20140217T224425Z
LAST-MODIFIED:20140217T224425Z
UID:340-1397282400-1397314800@www.normthurston.com
SUMMARY:Utah County GOP Convention
DESCRIPTION:
URL:https://www.normthurston.com/event/utah-county-gop-convention/
LOCATION:Mountain View High School\, 665 W Center Street\, Orem\, UT\, 84057\, United States
CATEGORIES:Voting
ATTACH;FMTTYPE=image/jpeg:https://www.normthurston.com/wp-content/uploads/2014/02/convention.jpg
END:VEVENT
BEGIN:VEVENT
DTSTART;TZID=America/Denver:20140411T190000
DTEND;TZID=America/Denver:20140411T210000
DTSTAMP:20260423T153122
CREATED:20140321T221400Z
LAST-MODIFIED:20140321T221710Z
UID:426-1397242800-1397250000@www.normthurston.com
SUMMARY:Meet the Candidate Night - LD 64
DESCRIPTION:Mark your calendars now for a Meet the Candidates night on April 11.  More details coming soon.
URL:https://www.normthurston.com/event/meet-the-candidate-night/
LOCATION:Nu Skin Auditorium\, 75 W Center St.\, Provo\, UT\, 84601\, United States
CATEGORIES:County Delegates,Meet the Candidate
ATTACH;FMTTYPE=image/jpeg:https://www.normthurston.com/wp-content/uploads/2014/03/meetcandidates.jpg
END:VEVENT
BEGIN:VEVENT
DTSTART;TZID=America/Denver:20140410T190000
DTEND;TZID=America/Denver:20140410T200000
DTSTAMP:20260423T153122
CREATED:20140405T211801Z
LAST-MODIFIED:20140405T214051Z
UID:443-1397156400-1397160000@www.normthurston.com
SUMMARY:Meet the LD64 Candidates
DESCRIPTION:Lyle & Vona Hunsaker will be hosting a candidate Q&A at their home.  Come see us discuss critical issues. \nThey have requested an RSVP from delegates who will be attending – lylehunsaker@hotmail.com
URL:https://www.normthurston.com/event/meet-the-ld64-candidates/
LOCATION:Hunsaker’s Home\, 444 S 200 E\, Provo\, UT\, 84606\, United States
CATEGORIES:County Delegates,Meet the Candidate
ATTACH;FMTTYPE=image/jpeg:https://www.normthurston.com/wp-content/uploads/2013/10/houses3.jpg
END:VEVENT
BEGIN:VEVENT
DTSTART;TZID=America/Denver:20140401T190000
DTEND;TZID=America/Denver:20140401T200000
DTSTAMP:20260423T153122
CREATED:20140324T140028Z
LAST-MODIFIED:20140324T195732Z
UID:434-1396378800-1396382400@www.normthurston.com
SUMMARY:Cottage Meeting - West Provo
DESCRIPTION:Norm Thurston\, candidate for State Representative\, District 64\, cordially invites you to a Cottage Meeting for County Delegates. \nThis will be an excellent opportunity for you to find out where Norm stands on the issues and ask him questions in person. \nFeel free to contact Norm any time via email at nthurston@gmail.com or via phone at 801-477-5348. \nEvent info: \nTuesday\, April 1\n7:00 pm\nat the home of your neighbor Neil Child\n607 W. 1450 S. Provo
URL:https://www.normthurston.com/event/cottage-meeting-west-provo-2/
LOCATION:Neil Child’s Home\, 607 W 1450 S\, Provo\, UT\, 84601-5583\, United States
CATEGORIES:Cottage Meeting,County Delegates
ATTACH;FMTTYPE=image/jpeg:https://www.normthurston.com/wp-content/uploads/2014/03/cottage1.jpg
END:VEVENT
BEGIN:VEVENT
DTSTART;TZID=America/Denver:20140329T093000
DTEND;TZID=America/Denver:20140329T110000
DTSTAMP:20260423T153122
CREATED:20140324T183426Z
LAST-MODIFIED:20140324T200136Z
UID:432-1396085400-1396090800@www.normthurston.com
SUMMARY:Cottage Meeting - Springville
DESCRIPTION:Norm Thurston\, candidate for State Representative\, District 64\, cordially invites you to a Cottage Meeting for County Delegates. \nThis will be an excellent opportunity for you to find out where Norm stands on the issues and ask him questions in person. \nFeel free to contact Norm any time via email at nthurston@gmail.com or via phone at 801-477-5348. \nEvent info: \nSaturday\, March 29\n9:30 am\nat the home of your neighbor Sean Grant\n545 W. 150 S. Springville
URL:https://www.normthurston.com/event/cottage-meeting-2/
LOCATION:Sean Grant’s Home\, 545 W 150 S\, Springville\, UT\, United States
CATEGORIES:Cottage Meeting,County Delegates
ATTACH;FMTTYPE=image/jpeg:https://www.normthurston.com/wp-content/uploads/2014/02/home.jpg
END:VEVENT
BEGIN:VEVENT
DTSTART;TZID=America/Denver:20140327T190000
DTEND;TZID=America/Denver:20140327T200000
DTSTAMP:20260423T153122
CREATED:20140324T194952Z
LAST-MODIFIED:20140324T194952Z
UID:433-1395946800-1395950400@www.normthurston.com
SUMMARY:Utah County Republican Party Delegate Training
DESCRIPTION:Details have not been released yet\, but I will be available before and after this event to meet with delegates.
URL:https://www.normthurston.com/event/ucrp-delegate-training/
LOCATION:UT
CATEGORIES:County Delegates
ATTACH;FMTTYPE=image/jpeg:https://www.normthurston.com/wp-content/uploads/2014/02/timp21.jpg
END:VEVENT
BEGIN:VEVENT
DTSTART;TZID=America/Denver:20140325T190000
DTEND;TZID=America/Denver:20140325T210000
DTSTAMP:20260423T153122
CREATED:20140324T182948Z
LAST-MODIFIED:20140324T183213Z
UID:431-1395774000-1395781200@www.normthurston.com
SUMMARY:Open House for County Delegates
DESCRIPTION:Norm Thurston\, candidate for State Representative\, District 64\, cordially invites you to an Open House for County Delegates. \nThis will be an excellent opportunity for you to find out where Norm stands on the issues and ask him questions in person. \nFeel free to contact Norm any time via email at nthurston@gmail.com or via phone at 801-477-5348. \nEvent info: \nSaturday\, March 25\n9:00 pm – 11:00 pm\nat the Thurston Residence\n965 E Center St. Provo
URL:https://www.normthurston.com/event/delegate-open-house/
LOCATION:Thurston Residence\, 965 E Center St.\, Provo\, UT\, 84606\, United States
CATEGORIES:Cottage Meeting,County Delegates
ATTACH;FMTTYPE=image/jpeg:https://www.normthurston.com/wp-content/uploads/2014/03/cottage2.jpg
END:VEVENT
BEGIN:VEVENT
DTSTART;TZID=America/Denver:20140322T093000
DTEND;TZID=America/Denver:20140322T113000
DTSTAMP:20260423T153122
CREATED:20140321T215617Z
LAST-MODIFIED:20140321T215617Z
UID:423-1395480600-1395487800@www.normthurston.com
SUMMARY:Open House For County Delegates
DESCRIPTION:Norm Thurston\, candidate for State Representative\, District 64\, cordially invites you to an Open House for County Delegates. \nThis will be an excellent opportunity for you to find out where Norm stands on the issues and ask him questions in person. \nFeel free to contact Norm any time via email at nthurston@gmail.com or via phone at 801-477-5348. \nEvent info: \nSaturday\, March 22\n9:30 am – 11:30 am\nat the Thurston Residence\n965 E Center St. Provo
URL:https://www.normthurston.com/event/open-house-for-county-delegates/
LOCATION:Thurston Residence\, 965 E Center St.\, Provo\, UT\, 84606\, United States
CATEGORIES:Cottage Meeting,County Delegates
ATTACH;FMTTYPE=image/jpeg:https://www.normthurston.com/wp-content/uploads/2014/03/thurston.jpg
END:VEVENT
BEGIN:VEVENT
DTSTART;TZID=America/Denver:20140320T190000
DTEND;TZID=America/Denver:20140320T210000
DTSTAMP:20260423T153122
CREATED:20140217T223428Z
LAST-MODIFIED:20140309T061316Z
UID:338-1395342000-1395349200@www.normthurston.com
SUMMARY:Caucus Night - March 20
DESCRIPTION:(If you don’t know which precinct you are in\, look at elections.utah.gov) \nPROVO \nProvo 1\, 2\, 3\, and 45 – Spring Creek Elementary\, 1740 Nevada Ave\nProvo 14\, 43\, and 44 – Franklin Elementary\, 350 S 600 West\nProvo 4\, 5\, and 6 – Provo Peaks Elementary\, 665 E Center St\nProvo 17 – Sunset View Elementary\, 525 S 1600 W \nSPRINGVILLE \nSpringville 2\, 4\, 11\, 12\, 16\, and 17 – Springville High School\, 1205 E 900 S \nPrecinct Caucus Information (from utah.gov): \nUtah’s political process begins every two years in neighborhood caucuses throughout the state where members of each precinct vote for delegates to represent them at county and state party conventions. Delegates then attend the conventions to vote for candidates that will then face each other in the public general election. \nGetting involved\nFirst visit the Lt. Governor’s site to find your precinct number. You must be registered to vote to participate. Most caucus meetings allow you to register to vote during the meeting if you’re not already. \nNext\, visit the website of the political party you affiliate with for time and location for your precinct. If you’re not registered with a political party\, you can declare your affiliation at the meeting. \nIn order to run or vote for delegates\, a person must be 18 years old at the time of the election (August primaries and November general election) and a registered voter. The various parties may have additional rules about party affiliation.
URL:https://www.normthurston.com/event/caucus-night/
LOCATION:UT
CATEGORIES:Voting
ATTACH;FMTTYPE=image/jpeg:https://www.normthurston.com/wp-content/uploads/2014/02/caucus.jpg
END:VEVENT
BEGIN:VEVENT
DTSTART;TZID=America/Denver:20140318T190000
DTEND;TZID=America/Denver:20140318T200000
DTSTAMP:20260423T153122
CREATED:20140303T020033Z
LAST-MODIFIED:20140308T075423Z
UID:380-1395169200-1395172800@www.normthurston.com
SUMMARY:Cottage Meeting - West Provo
DESCRIPTION:Please join us for a  \nPre-Caucus Cottage Meeting \n∎ Learn how caucus meetings work \n∎ Meet candidate Norm Thurston \nTuesday\, March 18\, 2014 \n7:00 p.m. \n At the home of your neighbor \nLinda Arnold \n1241 W. 1150 S. Provo
URL:https://www.normthurston.com/event/cottage-meeting-west-provo/
LOCATION:Linda Arnold’s Home\, 1241 W 1150 S\, Provo\, UT\, 84601\, United States
CATEGORIES:Cottage Meeting
ATTACH;FMTTYPE=image/jpeg:https://www.normthurston.com/wp-content/uploads/2014/02/home.jpg
END:VEVENT
BEGIN:VEVENT
DTSTART;TZID=America/Denver:20140315T190000
DTEND;TZID=America/Denver:20140315T203000
DTSTAMP:20260423T153122
CREATED:20140313T000040Z
LAST-MODIFIED:20140313T021657Z
UID:410-1394910000-1394915400@www.normthurston.com
SUMMARY:Cottage Meeting - Provost
DESCRIPTION:Please join me at a  \nMeet-the-Candidate Event \nLearn how caucus meetings work \nMeet candidate Norm Thurston \nSaturday\, March 15\, 2014 \n7:00 p.m. \nCanyon Meadows Club House \nCorner of Meadow Fork Rd (1651 E.) & 1080 S. Provo \nNote: Canyon Meadows does not allow on-street parking. You may park in any parking space that is not in a driveway or in front of a garage or along Slate Canyon Drive outside the complex. \nFor other dates & places and more info\, see www.normthurston.com
URL:https://www.normthurston.com/event/cottage-meeting-provost/
LOCATION:Canyon Meadows Club House\, Meadow Fork Road &  E 1080 S\, Provo\, UT\, 84606\, United States
CATEGORIES:Cottage Meeting
ATTACH;FMTTYPE=image/jpeg:https://www.normthurston.com/wp-content/uploads/2014/03/cottage2.jpg
END:VEVENT
BEGIN:VEVENT
DTSTART;TZID=America/Denver:20140313T190000
DTEND;TZID=America/Denver:20140313T200000
DTSTAMP:20260423T153122
CREATED:20140303T024531Z
LAST-MODIFIED:20140303T092643Z
UID:374-1394737200-1394740800@www.normthurston.com
SUMMARY:Maeser Neighborhood Meeting
DESCRIPTION:Norman Thurston will be at the regularly scheduled Maeser Neighborhood Meeting.  The first part of the meeting will be for the usual neighborhood business\, then we will talk about what to expect at the Caucus Meeting.  Come meet him and ask him hard questions about his qualifications.
URL:https://www.normthurston.com/event/maeser-neighborhood-meeting/
LOCATION:Provo Fire Station\, 700 E Center St\, Provo\, UT\, 84606\, United States
CATEGORIES:Cottage Meeting
ATTACH;FMTTYPE=image/jpeg:https://www.normthurston.com/wp-content/uploads/2014/03/firestation.jpeg
END:VEVENT
BEGIN:VEVENT
DTSTART;TZID=America/Denver:20140313T180000
DTEND;TZID=America/Denver:20140313T190000
DTSTAMP:20260423T153122
CREATED:20140305T203543Z
LAST-MODIFIED:20140309T090754Z
UID:393-1394733600-1394737200@www.normthurston.com
SUMMARY:Cottage Meeting - Slate Canyon
DESCRIPTION:Please join us for a  \nPre-Caucus Cottage Meeting \n∎ Learn how caucus meetings work \n∎ Meet candidate Norm Thurston \nThursday\, March 13\, 2014 \n6:00 p.m. \nAt the home of your neighbor \nDenise Bonnett \n2017 E. Oregon Ave. Provo \nFor other dates & places where you can meet Norm Thurston and more info about him\, see www.normthurston.com
URL:https://www.normthurston.com/event/cottage-meeting-slate-canyon/
LOCATION:Denise Bonnett’s Home\, 2017 E Oregon Ave\, Provo\, UT\, 84606\, United States
CATEGORIES:Cottage Meeting
ATTACH;FMTTYPE=image/jpeg:https://www.normthurston.com/wp-content/uploads/2014/03/cottage2.jpg
END:VEVENT
BEGIN:VEVENT
DTSTART;TZID=America/Denver:20140312T190000
DTEND;TZID=America/Denver:20140312T200000
DTSTAMP:20260423T153122
CREATED:20140303T025256Z
LAST-MODIFIED:20140309T090726Z
UID:383-1394650800-1394654400@www.normthurston.com
SUMMARY:Cottage Meeting - Springville
DESCRIPTION:Please join us for a  \nPre-Caucus Cottage Meeting \n∎ Learn how caucus meetings work \n∎ Meet candidate Norm Thurston \nWednesday\, March 12\, 2014 \n7:00 p.m. \n At the home of your neighbor \nSean Grant \n545 W. 150 S. Springville
URL:https://www.normthurston.com/event/cottage-meeting-west-springville/
LOCATION:Sean Grant’s Home\, 545 W 150 S\, Springville\, UT\, United States
CATEGORIES:Cottage Meeting
ATTACH;FMTTYPE=image/jpeg:https://www.normthurston.com/wp-content/uploads/2014/02/home.jpg
END:VEVENT
BEGIN:VEVENT
DTSTART;TZID=America/Denver:20140311T190000
DTEND;TZID=America/Denver:20140311T203000
DTSTAMP:20260423T153122
CREATED:20140227T083743Z
LAST-MODIFIED:20140309T090655Z
UID:355-1394564400-1394569800@www.normthurston.com
SUMMARY:Cottage Meeting - Provo
DESCRIPTION:Please join us for a  \nPre-Caucus Cottage Meeting \nLearn how caucus meetings work\nMeet candidate Norm Thurston\nTuesday\, March 11\, 2014 \n7:00 p.m. \nAt the home of your neighbors  \nScott & Sarah Campbell\n261 E. 100 N. Provo \nFor other dates & places and more info\, see www.normthurston.com
URL:https://www.normthurston.com/event/cottage-meeting/
LOCATION:Scott & Sarah Campbell’s Home\, 261 E 100 N\, Provo\, UT\, 84606\, United States
CATEGORIES:Cottage Meeting
ATTACH;FMTTYPE=image/jpeg:https://www.normthurston.com/wp-content/uploads/2014/03/cottage1.jpg
END:VEVENT
BEGIN:VEVENT
DTSTART;TZID=America/Denver:20140308T190000
DTEND;TZID=America/Denver:20140308T200000
DTSTAMP:20260423T153122
CREATED:20140304T101817Z
LAST-MODIFIED:20140308T074505Z
UID:387-1394305200-1394308800@www.normthurston.com
SUMMARY:Cottage Meeting - Provost
DESCRIPTION:Please join us for a  \nPre-Caucus Cottage Meeting\nLearn how caucus meetings work\nMeet candidate Norm Thurston\nSaturday\, March 8\, 2014 \n7:00 p.m. \nAt the home of your neighbors  \nBrian and Anna Lea Cannon\n1433 E. 800 S. Provo \nFor other dates & places and more info\, see www.normthurston.com 
URL:https://www.normthurston.com/event/cottage-meeting-east-provo-2/
LOCATION:Cannon’s Home\, 1433 E 800 S\, Provo\, UT\, 84606\, United States
CATEGORIES:Cottage Meeting
ATTACH;FMTTYPE=image/jpeg:https://www.normthurston.com/wp-content/uploads/2014/02/home.jpg
END:VEVENT
BEGIN:VEVENT
DTSTART;TZID=America/Denver:20140305T190000
DTEND;TZID=America/Denver:20140305T200000
DTSTAMP:20260423T153122
CREATED:20140303T024104Z
LAST-MODIFIED:20140308T075528Z
UID:371-1394046000-1394049600@www.normthurston.com
SUMMARY:Cottage Meeting - East Provo
DESCRIPTION:Please join us for a  \nPre-Caucus Cottage Meeting \nLearn how caucus meetings work\nMeet candidate Norm Thurston\n\nWednesday\, March 5\, 2014 \n7:00 p.m. \n\nAt the home of your neighbors  \nJohn & Ranelle O’Dell\n1296 E. 300 S. Provo \n\nFor other dates & places and more info\, see www.normthurston.com
URL:https://www.normthurston.com/event/cottage-meeting-east-provo/
LOCATION:John & Ranelle O’Dell\, 1296 E 300 S\, Provo\, UT\, 84606\, United States
CATEGORIES:Cottage Meeting
ATTACH;FMTTYPE=image/jpeg:https://www.normthurston.com/wp-content/uploads/2014/02/home.jpg
END:VEVENT
END:VCALENDAR