BEGIN:VCALENDAR
VERSION:2.0
PRODID:-//Rep. Norm Thurston - ECPv6.15.13//NONSGML v1.0//EN
CALSCALE:GREGORIAN
METHOD:PUBLISH
X-ORIGINAL-URL:https://www.normthurston.com
X-WR-CALDESC:Events for Rep. Norm Thurston
REFRESH-INTERVAL;VALUE=DURATION:PT1H
X-Robots-Tag:noindex
X-PUBLISHED-TTL:PT1H
BEGIN:VTIMEZONE
TZID:America/Denver
BEGIN:DAYLIGHT
TZOFFSETFROM:-0700
TZOFFSETTO:-0600
TZNAME:MDT
DTSTART:20130310T090000
END:DAYLIGHT
BEGIN:STANDARD
TZOFFSETFROM:-0600
TZOFFSETTO:-0700
TZNAME:MST
DTSTART:20131103T080000
END:STANDARD
BEGIN:DAYLIGHT
TZOFFSETFROM:-0700
TZOFFSETTO:-0600
TZNAME:MDT
DTSTART:20140309T090000
END:DAYLIGHT
BEGIN:STANDARD
TZOFFSETFROM:-0600
TZOFFSETTO:-0700
TZNAME:MST
DTSTART:20141102T080000
END:STANDARD
BEGIN:DAYLIGHT
TZOFFSETFROM:-0700
TZOFFSETTO:-0600
TZNAME:MDT
DTSTART:20150308T090000
END:DAYLIGHT
BEGIN:STANDARD
TZOFFSETFROM:-0600
TZOFFSETTO:-0700
TZNAME:MST
DTSTART:20151101T080000
END:STANDARD
END:VTIMEZONE
BEGIN:VEVENT
DTSTART;TZID=America/Denver:20140313T180000
DTEND;TZID=America/Denver:20140313T190000
DTSTAMP:20260423T140445
CREATED:20140305T203543Z
LAST-MODIFIED:20140309T090754Z
UID:393-1394733600-1394737200@www.normthurston.com
SUMMARY:Cottage Meeting - Slate Canyon
DESCRIPTION:Please join us for a  \nPre-Caucus Cottage Meeting \n∎ Learn how caucus meetings work \n∎ Meet candidate Norm Thurston \nThursday\, March 13\, 2014 \n6:00 p.m. \nAt the home of your neighbor \nDenise Bonnett \n2017 E. Oregon Ave. Provo \nFor other dates & places where you can meet Norm Thurston and more info about him\, see www.normthurston.com
URL:https://www.normthurston.com/event/cottage-meeting-slate-canyon/
LOCATION:Denise Bonnett’s Home\, 2017 E Oregon Ave\, Provo\, UT\, 84606\, United States
CATEGORIES:Cottage Meeting
ATTACH;FMTTYPE=image/jpeg:https://www.normthurston.com/wp-content/uploads/2014/03/cottage2.jpg
END:VEVENT
BEGIN:VEVENT
DTSTART;TZID=America/Denver:20140312T190000
DTEND;TZID=America/Denver:20140312T200000
DTSTAMP:20260423T140445
CREATED:20140303T025256Z
LAST-MODIFIED:20140309T090726Z
UID:383-1394650800-1394654400@www.normthurston.com
SUMMARY:Cottage Meeting - Springville
DESCRIPTION:Please join us for a  \nPre-Caucus Cottage Meeting \n∎ Learn how caucus meetings work \n∎ Meet candidate Norm Thurston \nWednesday\, March 12\, 2014 \n7:00 p.m. \n At the home of your neighbor \nSean Grant \n545 W. 150 S. Springville
URL:https://www.normthurston.com/event/cottage-meeting-west-springville/
LOCATION:Sean Grant’s Home\, 545 W 150 S\, Springville\, UT\, United States
CATEGORIES:Cottage Meeting
ATTACH;FMTTYPE=image/jpeg:https://www.normthurston.com/wp-content/uploads/2014/02/home.jpg
END:VEVENT
BEGIN:VEVENT
DTSTART;TZID=America/Denver:20140311T190000
DTEND;TZID=America/Denver:20140311T203000
DTSTAMP:20260423T140445
CREATED:20140227T083743Z
LAST-MODIFIED:20140309T090655Z
UID:355-1394564400-1394569800@www.normthurston.com
SUMMARY:Cottage Meeting - Provo
DESCRIPTION:Please join us for a  \nPre-Caucus Cottage Meeting \nLearn how caucus meetings work\nMeet candidate Norm Thurston\nTuesday\, March 11\, 2014 \n7:00 p.m. \nAt the home of your neighbors  \nScott & Sarah Campbell\n261 E. 100 N. Provo \nFor other dates & places and more info\, see www.normthurston.com
URL:https://www.normthurston.com/event/cottage-meeting/
LOCATION:Scott & Sarah Campbell’s Home\, 261 E 100 N\, Provo\, UT\, 84606\, United States
CATEGORIES:Cottage Meeting
ATTACH;FMTTYPE=image/jpeg:https://www.normthurston.com/wp-content/uploads/2014/03/cottage1.jpg
END:VEVENT
BEGIN:VEVENT
DTSTART;TZID=America/Denver:20140308T190000
DTEND;TZID=America/Denver:20140308T200000
DTSTAMP:20260423T140445
CREATED:20140304T101817Z
LAST-MODIFIED:20140308T074505Z
UID:387-1394305200-1394308800@www.normthurston.com
SUMMARY:Cottage Meeting - Provost
DESCRIPTION:Please join us for a  \nPre-Caucus Cottage Meeting\nLearn how caucus meetings work\nMeet candidate Norm Thurston\nSaturday\, March 8\, 2014 \n7:00 p.m. \nAt the home of your neighbors  \nBrian and Anna Lea Cannon\n1433 E. 800 S. Provo \nFor other dates & places and more info\, see www.normthurston.com 
URL:https://www.normthurston.com/event/cottage-meeting-east-provo-2/
LOCATION:Cannon’s Home\, 1433 E 800 S\, Provo\, UT\, 84606\, United States
CATEGORIES:Cottage Meeting
ATTACH;FMTTYPE=image/jpeg:https://www.normthurston.com/wp-content/uploads/2014/02/home.jpg
END:VEVENT
BEGIN:VEVENT
DTSTART;TZID=America/Denver:20140305T190000
DTEND;TZID=America/Denver:20140305T200000
DTSTAMP:20260423T140445
CREATED:20140303T024104Z
LAST-MODIFIED:20140308T075528Z
UID:371-1394046000-1394049600@www.normthurston.com
SUMMARY:Cottage Meeting - East Provo
DESCRIPTION:Please join us for a  \nPre-Caucus Cottage Meeting \nLearn how caucus meetings work\nMeet candidate Norm Thurston\n\nWednesday\, March 5\, 2014 \n7:00 p.m. \n\nAt the home of your neighbors  \nJohn & Ranelle O’Dell\n1296 E. 300 S. Provo \n\nFor other dates & places and more info\, see www.normthurston.com
URL:https://www.normthurston.com/event/cottage-meeting-east-provo/
LOCATION:John & Ranelle O’Dell\, 1296 E 300 S\, Provo\, UT\, 84606\, United States
CATEGORIES:Cottage Meeting
ATTACH;FMTTYPE=image/jpeg:https://www.normthurston.com/wp-content/uploads/2014/02/home.jpg
END:VEVENT
END:VCALENDAR